BEGIN:VCALENDAR
VERSION:2.0
PRODID:-//Agenda Grid Calendar//NL
CALSCALE:GREGORIAN
METHOD:PUBLISH
BEGIN:VEVENT
UID:6167@vankinsbergencollege.nl
DTSTAMP:20260421T081317Z
SUMMARY:Themadag klas 1
DTSTART;VALUE=DATE:20251104
DTEND;VALUE=DATE:20251105
URL:https://vankinsbergencollege.nl/agenda/themadag-klas-1/
END:VEVENT
END:VCALENDAR
