BEGIN:VCALENDAR
VERSION:2.0
PRODID:-//Agenda Grid Calendar//NL
CALSCALE:GREGORIAN
METHOD:PUBLISH
BEGIN:VEVENT
UID:5110@vankinsbergencollege.nl
DTSTAMP:20260420T084324Z
SUMMARY:Stage klas 3 basis/kader 2025-2026
DTSTART;VALUE=DATE:20260330
DTEND;VALUE=DATE:20260418
URL:https://vankinsbergencollege.nl/agenda/stage-klas-3-basis-kader-2/
END:VEVENT
END:VCALENDAR
